BEGIN:VCALENDAR
VERSION:2.0
PRODID:-//My Southern Downs - ECPv6.3.1//NONSGML v1.0//EN
CALSCALE:GREGORIAN
METHOD:PUBLISH
X-WR-CALNAME:My Southern Downs
X-ORIGINAL-URL:https://mysoutherndowns.com.au
X-WR-CALDESC:Events for My Southern Downs
REFRESH-INTERVAL;VALUE=DURATION:PT1H
X-Robots-Tag:noindex
X-PUBLISHED-TTL:PT1H
BEGIN:VTIMEZONE
TZID:Australia/Brisbane
BEGIN:STANDARD
TZOFFSETFROM:+1000
TZOFFSETTO:+1000
TZNAME:AEST
DTSTART:20170101T000000
END:STANDARD
END:VTIMEZONE
BEGIN:VEVENT
DTSTART;TZID=Australia/Brisbane:20170914T173000
DTEND;TZID=Australia/Brisbane:20170914T190000
DTSTAMP:20260424T150915
CREATED:20170914T232948Z
LAST-MODIFIED:20170914T232948Z
UID:3517-1505410200-1505415600@mysoutherndowns.com.au
SUMMARY:Cuppa with the Councillors Yangan
DESCRIPTION:Held at Yangan School of Arts \nKing Street \nYangan
URL:https://mysoutherndowns.com.au/event/cuppa-with-the-councillors-yangan/
END:VEVENT
BEGIN:VEVENT
DTSTART;VALUE=DATE:20170915
DTEND;VALUE=DATE:20170917
DTSTAMP:20260424T150915
CREATED:20170908T035340Z
LAST-MODIFIED:20170908T035340Z
UID:3494-1505433600-1505606399@mysoutherndowns.com.au
SUMMARY:Allora Kennel Club – Extravaganza
DESCRIPTION:  \n\n\n\n\n\nAllora Kennel Club\nExtravaganza On the Downs\n\n\n\n\n\n\n\n\n\n\n\nFriday 15 September 2017 2:00pm – 6.00pm and Saturday 16 September 2017 8:00am- 6pm \nFree Admission \nAllora Showground\, Cnr New England Hwy & Darling Street\, Allora\, Southern Downs \n\n\n\n\n\n\n\n\n\n\n\n\n\n\n\n\n\n\nThe Allora Kennel Club will host a five show Extravaganza on the Downs this Friday. Showing of purebred dogs has been important part of Australia’s culture since emigration from England. \n\n\n\n\n\n\nFor the Extravaganza\, judges from across the country will have the job of choosing the best competing canine. Dogs Queensland General Manager\, Rob Harrison\, said the dog show is an important event in a pedigree dog owner’s calendar. \nThe show is a wonderful event\, not only for our members but also the general public who have the chance to chat to the owners and breeders\, and watch the judging Rob said. \nFamily and friends from the local community are invited to come down over the weekend to show their support for the much-loved breeds. \n\n\n\n\n\n\n\n\n\n\n\n\n\n\n\n\n\n\n 
URL:https://mysoutherndowns.com.au/event/allora-kennel-club-extravaganza/
END:VEVENT
BEGIN:VEVENT
DTSTART;TZID=Australia/Brisbane:20170915T080000
DTEND;TZID=Australia/Brisbane:20170915T170000
DTSTAMP:20260424T150915
CREATED:20170915T012414Z
LAST-MODIFIED:20170915T012414Z
UID:3529-1505462400-1505494800@mysoutherndowns.com.au
SUMMARY:Stanthorpe Gardenfest and Trade Fair
DESCRIPTION:Held by the Stanthorpe Garden Club at the Stanthorpe Christian Fellowship\,  207 Amosfield Road Stanthorpe. \nFree Admission with light refreshments available. \nMany of the favourite and long standing stall holders are returning again this year together with some new and intersting sites\, so this year’s event promises to be a ‘must attend’ occasion to be marked in your calender
URL:https://mysoutherndowns.com.au/event/stanthorpe-gardenfest-and-trade-fair/
END:VEVENT
BEGIN:VEVENT
DTSTART;TZID=Australia/Brisbane:20170915T190000
DTEND;TZID=Australia/Brisbane:20170915T223000
DTSTAMP:20260424T150915
CREATED:20170908T040859Z
LAST-MODIFIED:20170908T040859Z
UID:3503-1505502000-1505514600@mysoutherndowns.com.au
SUMMARY:Comedy Hypnotist Gerard V
DESCRIPTION:  \n\n\n\n\n\n\n\n\n\n\n\n\nFri 15 Sep 2017\, 7:00pm-10:30pm\n\n\n\n\n\n\n \n\nWhere:Queensland College Of Wine Tourism\,  22 Caves Road\, Stanthorpe\, Southern Downs  \n\n \n\nRestrictions:All Ages\n\n \n\nTicket Information:\n\nGeneral Admission: $35.00\nBuy Tickets  0408 201 726\nAdditional fees may apply\n\n\n \n\n\n\n\n\n\n\n\nAustralia’s most outstanding Comedy Hypnotist\, Gerard V! The classiest and most entertaining Comedy Hypnotist Show you’ll see live.
URL:https://mysoutherndowns.com.au/event/comedy-hypnotist-gerard-v/
END:VEVENT
BEGIN:VEVENT
DTSTART;VALUE=DATE:20170916
DTEND;VALUE=DATE:20170917
DTSTAMP:20260424T150915
CREATED:20170908T013315Z
LAST-MODIFIED:20170908T014512Z
UID:3479-1505520000-1505606399@mysoutherndowns.com.au
SUMMARY:Glengallen Homestead 150th Anniversary Dinner
DESCRIPTION:  \n\n\n\n\n\n\n\n\n\n\n\n\n\n\n\n\n\n\n\n\n\n\n\n\n\n\n  \n\n\n\n\n\n\n\n  \nLOCATION: \n\n\n\n\n\n\n\n\n18515 New England Highway\, Warwick-Allora\, QLD 4370 \n\n\n\n\n\n\n\nThe 150th anniversary celebrations will centre on Glengallan House\, built in 1867\, unoccupied since 1927 and rescued from ruin by a 2001 Centenary of Federation-funded restoration. \nCelebrations will culminate with the anniversary dinner on September 16 at which items long-removed from the deserted property will be presented for permanent display. \n\n\n\n\n\n\n\n\n\n\n\n\n\n\n\nContact Glengallan Homestead \nPh: 07 4667 3866 \nEmail: info@glengallan.com.au \nwww.glengallan.com.au \n\n\n\n\n\n\n\n\n\n\n\n\n\n\n\n\n 
URL:https://mysoutherndowns.com.au/event/glengallen-homestead-150th-anniversary-dinner/
END:VEVENT
BEGIN:VEVENT
DTSTART;TZID=Australia/Brisbane:20170916T100000
DTEND;TZID=Australia/Brisbane:20170916T160000
DTSTAMP:20260424T150915
CREATED:20170908T011514Z
LAST-MODIFIED:20170908T011514Z
UID:3476-1505556000-1505577600@mysoutherndowns.com.au
SUMMARY:Railway Hotel Allora Cup
DESCRIPTION:Free entry to Warwick Turf Club \, Allman Park with gates opening at 10am \nFun filled day for the whole family with Market stalls\, Jumping Castle and Ice Cream Truck. \nPrizes for the Best Dressed  picked from the crowd
URL:https://mysoutherndowns.com.au/event/railway-hotel-allora-cup/
END:VEVENT
END:VCALENDAR