BEGIN:VCALENDAR
VERSION:2.0
PRODID:-//My Southern Downs - ECPv6.3.1//NONSGML v1.0//EN
CALSCALE:GREGORIAN
METHOD:PUBLISH
X-ORIGINAL-URL:https://mysoutherndowns.com.au
X-WR-CALDESC:Events for My Southern Downs
REFRESH-INTERVAL;VALUE=DURATION:PT1H
X-Robots-Tag:noindex
X-PUBLISHED-TTL:PT1H
BEGIN:VTIMEZONE
TZID:Australia/Brisbane
BEGIN:STANDARD
TZOFFSETFROM:+1000
TZOFFSETTO:+1000
TZNAME:AEST
DTSTART:20170101T000000
END:STANDARD
END:VTIMEZONE
BEGIN:VEVENT
DTSTART;TZID=Australia/Brisbane:20171101T170000
DTEND;TZID=Australia/Brisbane:20171101T190000
DTSTAMP:20260422T065553
CREATED:20171009T004204Z
LAST-MODIFIED:20171009T004204Z
UID:3740-1509555600-1509562800@mysoutherndowns.com.au
SUMMARY:CDS/Stanthorpe Writers Group - writing competition closes
DESCRIPTION:Short story competition:\n* 300-3000 words – theme ‘Granite Belt or one of its towns’\, to be interpreted as the writer sees fit.\n* 1.5 line spacing – Times New Roman or similar font\n* Open to residents of Granite Belt and/or members of SWG. Open to individuals of high school age and older only.\n* Free entry. Limited to one entry per person.\n* Cover page to include: writer’s name\, contact email address\, phone number\, title of story.\n* Story is to include title and page numbering only (no identifying details of the author to be noted).\n* Prize is a book voucher courtesy of judge and patron\, Karenlee Thompson. Winner to be announced in Stanthorpe Border Post and on SWG Facebook page in December 2017.\n* Printed entries to be submitted at SWG meeting 5pm Wednesday 1 November 2017 at CDS Youth Centre (15 Hilton St\, Stanthorpe). Anyone unable to attend may email their entry by 5pm Wednesday 1 November 2017 to SWG chairperson: jess_andreatta@yahoo.com
URL:https://mysoutherndowns.com.au/event/cdsstanthorpe-writers-group-writing-competition-closes/
LOCATION:CDS Youth Centre\, Hilton ST\, 15 Hilton St\, Stanthorpe\, QLD\, 4380\, Australia
CATEGORIES:Not for Profit Events,Public Events
GEO:-28.6578749;151.9349188
X-APPLE-STRUCTURED-LOCATION;VALUE=URI;X-ADDRESS=CDS Youth Centre Hilton ST 15 Hilton St Stanthorpe QLD 4380 Australia;X-APPLE-RADIUS=500;X-TITLE=15 Hilton St:geo:151.9349188,-28.6578749
END:VEVENT
END:VCALENDAR