BEGIN:VCALENDAR
VERSION:2.0
PRODID:-//My Southern Downs - ECPv6.3.1//NONSGML v1.0//EN
CALSCALE:GREGORIAN
METHOD:PUBLISH
X-WR-CALNAME:My Southern Downs
X-ORIGINAL-URL:https://mysoutherndowns.com.au
X-WR-CALDESC:Events for My Southern Downs
REFRESH-INTERVAL;VALUE=DURATION:PT1H
X-Robots-Tag:noindex
X-PUBLISHED-TTL:PT1H
BEGIN:VTIMEZONE
TZID:Australia/Brisbane
BEGIN:STANDARD
TZOFFSETFROM:+1000
TZOFFSETTO:+1000
TZNAME:AEST
DTSTART:20180101T000000
END:STANDARD
END:VTIMEZONE
BEGIN:VEVENT
DTSTART;TZID=Australia/Brisbane:20181011T100000
DTEND;TZID=Australia/Brisbane:20181206T160000
DTSTAMP:20260421T232347
CREATED:20181010T031030Z
LAST-MODIFIED:20181010T031030Z
UID:6621-1539252000-1544112000@mysoutherndowns.com.au
SUMMARY:Seasons Warwick Art Gallery 11 Oct-6 Dec
DESCRIPTION:Seasons; Warwick Artists Group Member’s Exhibition \nWarwick Art Gallery 11 October-6 December 2018 \nTuesday – Saturday 10am-4pm \n  \n49 Albion St. Warwick
URL:https://mysoutherndowns.com.au/event/seasons-warwick-art-gallery-11-oct-6-dec/
ATTACH;FMTTYPE=image/png:https://mysoutherndowns.com.au/wp-content/uploads/2018/10/11165260_10152937264727075_8408630234869236871_n.png
END:VEVENT
BEGIN:VEVENT
DTSTART;TZID=Australia/Brisbane:20181201T053000
DTEND;TZID=Australia/Brisbane:20181201T233000
DTSTAMP:20260421T232347
CREATED:20181011T233303Z
LAST-MODIFIED:20181011T233303Z
UID:6637-1543642200-1543707000@mysoutherndowns.com.au
SUMMARY:Beach Bingo and  Retro Dance Party - Stanthorpe
DESCRIPTION:Saturday\, 1 December 2018 from 5:30-Midnight\nStanthorpe Exhibition Centre\, 3 High Street\, Stanthorpe\nTickets · $25-$30 \nBeach Bingo blends some seriously fun games of bingo with the sounds of classic 60s beach party and mixes it up with the retro sounds of the 70s & 80s. Saturday 1st of December. Bikinis and budgie smugglers\, Hawaiian shirts and thongs\, slip into your most comfortable beach bum outfit to win great prizes.
URL:https://mysoutherndowns.com.au/event/beach-bingo-and-retro-dance-party-stanthorpe/
ATTACH;FMTTYPE=image/jpeg:https://mysoutherndowns.com.au/wp-content/uploads/2018/10/42723672_932634043590092_245693745901600768_n.jpg
END:VEVENT
BEGIN:VEVENT
DTSTART;TZID=Australia/Brisbane:20181201T090000
DTEND;TZID=Australia/Brisbane:20181202T170000
DTSTAMP:20260421T232347
CREATED:20180913T234836Z
LAST-MODIFIED:20180913T234836Z
UID:5891-1543654800-1543770000@mysoutherndowns.com.au
SUMMARY:Christmas Tree Harvest Weekend - Applethorpe
DESCRIPTION:1 Dec at 09:00 – 2 Dec at 17:00\nGranite Belt Christmas Farm\n321 Aerodrome Road\, Applethorpe \nAction Packed Family Fun Day!\nStart a family tradition and head to the farm to pick your very own real Christmas Tree from our fields. We will cut it down and net it for you. \nThere will be lots of kids activities throughout the day and an all day BBQ available. \nPotted Christmas Trees for sale along with all the accessories to go with your Christmas Tree. \nSt Josephs School Choir will be performing at 10am on the Saturday so don’t miss hearing there amazing Christmas Carols! Santa will be at the farm all day too! \nLimited trees available and best in best dressed\, sorry no pre orders. EFTPOS available.
URL:https://mysoutherndowns.com.au/event/christmas-tree-harvest-weekend-applethorpe/
ATTACH;FMTTYPE=image/jpeg:https://mysoutherndowns.com.au/wp-content/uploads/2018/09/38963595_901374496738405_7317721564747661312_n.jpg
END:VEVENT
BEGIN:VEVENT
DTSTART;TZID=Australia/Brisbane:20181201T180000
DTEND;TZID=Australia/Brisbane:20181201T230000
DTSTAMP:20260421T232347
CREATED:20180824T010722Z
LAST-MODIFIED:20180824T010722Z
UID:5675-1543687200-1543705200@mysoutherndowns.com.au
SUMMARY:The Chef and The Winemaker\, Seafood Degustation Dinner - Ballandean
DESCRIPTION:Date: December 1\nTime: 6:00 pm – 11:00 pm\nCost: $160 \nJoin the Golden Grove Family for a night of Premium mainstream and Alternative wines and food to match. The two brothers Ray Costanzo (Winemaker) and Jason Costanzo (Chef) will work together to match our alternative varieties (Strange birds) to foods with a Mediterranean flavour. \nSo come along to our cosy tasting room and sample our gold medal strange birds and peck your way through the chef’s gatherings. \nFor your convenience a bus is included in the price. Book early as places are strictly limited. \nFor more information please call Grace Costanzo    0746841291\nEmail: admin@goldengroveestate.com.au\nWebsite: www.goldengroveestate\,com.au
URL:https://mysoutherndowns.com.au/event/the-chef-and-the-winemaker-seafood-degustation-dinner-ballandean/
ATTACH;FMTTYPE=image/jpeg:https://mysoutherndowns.com.au/wp-content/uploads/2018/08/DSC_4862-300x199.jpg
END:VEVENT
BEGIN:VEVENT
DTSTART;TZID=Australia/Brisbane:20181203T140000
DTEND;TZID=Australia/Brisbane:20181203T170000
DTSTAMP:20260421T232347
CREATED:20181024T033623Z
LAST-MODIFIED:20181024T033623Z
UID:6882-1543845600-1543856400@mysoutherndowns.com.au
SUMMARY:Alcohol & Drug Family Support Info Session
DESCRIPTION:AOD Information sessions for Nov – Dec are as follows\, please save the date and we look forward to being of service: \nMonday\, December 3\, 2018\n10am – 1pm\nWarwick Library\n49 Albion Street\, Warwick \nWednesday\, November 28\, 2018 and\nMonday\, November 26\, 2018\n10am – 1pm\nDrugarm\nCnr Connor & Short St\, Stanthorpe \nThe Breakthrough for Families Program helps families and significant others of individuals affected by alcohol and drug use – in particular families with children\, to obtain information\, develop support strategies and connect to treatment and other services. \nThe program provides families and the broader community affected by ice\, alcohol and other drugs access to free\, accessible information\, and tailored strategies to help themselves and others. \nFamilies can receive brief individual support over several private sessions tailored to their individual needs and circumstances and our support can be accessed on a voluntary basis\, and we are focused on helping people who may not have easy access to support.
URL:https://mysoutherndowns.com.au/event/alcohol-drug-family-support-info-session-3/
LOCATION:Warwick Library\, 49 Albion Street\, Warwick\, QLD\, 4370\, Australia
ATTACH;FMTTYPE=image/png:https://mysoutherndowns.com.au/wp-content/uploads/2018/10/Nov-Flyer-jpg-2.png
ORGANIZER;CN="Drugarm":MAILTO:intake@hoa.drugarm.com.au
END:VEVENT
BEGIN:VEVENT
DTSTART;TZID=Australia/Brisbane:20181203T140000
DTEND;TZID=Australia/Brisbane:20181203T170000
DTSTAMP:20260421T232347
CREATED:20181024T033650Z
LAST-MODIFIED:20181024T033650Z
UID:6886-1543845600-1543856400@mysoutherndowns.com.au
SUMMARY:Alcohol & Drug Family Support Info Session
DESCRIPTION:AOD Information sessions for Nov – Dec are as follows\, please save the date and we look forward to being of service: \nMonday\, December 3\, 2018\n10am – 1pm\nWarwick Library\n49 Albion Street\, Warwick \nWednesday\, November 28\, 2018 and\nMonday\, November 26\, 2018\n10am – 1pm\nDrugarm\nCnr Connor & Short St\, Stanthorpe \nThe Breakthrough for Families Program helps families and significant others of individuals affected by alcohol and drug use – in particular families with children\, to obtain information\, develop support strategies and connect to treatment and other services. \nThe program provides families and the broader community affected by ice\, alcohol and other drugs access to free\, accessible information\, and tailored strategies to help themselves and others. \nFamilies can receive brief individual support over several private sessions tailored to their individual needs and circumstances and our support can be accessed on a voluntary basis\, and we are focused on helping people who may not have easy access to support.
URL:https://mysoutherndowns.com.au/event/alcohol-drug-family-support-info-session-4/
END:VEVENT
BEGIN:VEVENT
DTSTART;TZID=Australia/Brisbane:20181203T190000
DTEND;TZID=Australia/Brisbane:20181203T190000
DTSTAMP:20260421T232347
CREATED:20181019T000801Z
LAST-MODIFIED:20181019T000801Z
UID:6738-1543863600-1543863600@mysoutherndowns.com.au
SUMMARY:Meditation Education Nights Stanthorpe
DESCRIPTION:6 Dates     3 December 2018 – 11 February 2019   2018-   3/12\, 10/12\,   2019- 21/1\, 28/1\, 4/2\, 11/2 \n7 pm – 10.30 pm \n\n\n\nStanthorpe Little Theatre Co \, 20 Connor St\, Stanthorpe\n\n\n$20 per person per night. \nOn Each Meditation and education night we will have a special meditation and then we will discuss every subject under the sun\, from earthly problems to spiritual problems. \nFrom dealing with loss to understanding when spirit communicates and everything from reincarnation\, living in the now and moving forward with a more positive view.
URL:https://mysoutherndowns.com.au/event/meditation-education-nights-stanthorpe/
ATTACH;FMTTYPE=image/jpeg:https://mysoutherndowns.com.au/wp-content/uploads/2018/10/44115870_10155893586853697_711602465207746560_o.jpg
END:VEVENT
BEGIN:VEVENT
DTSTART;TZID=Australia/Brisbane:20181205T173000
DTEND;TZID=Australia/Brisbane:20181205T190000
DTSTAMP:20260421T232347
CREATED:20170914T234427Z
LAST-MODIFIED:20181012T023350Z
UID:3522-1544031000-1544036400@mysoutherndowns.com.au
SUMMARY:Cuppa with the Councillors Stanthorpe
DESCRIPTION:Wednesday 5 December from 5.30pm \nAt the QCWA Stanthorpe Rooms \n5 Victoria Street \nStanthorpe
URL:https://mysoutherndowns.com.au/event/cuppa-with-the-councillors-stanthorpe/
ATTACH;FMTTYPE=image/jpeg:https://mysoutherndowns.com.au/wp-content/uploads/2017/10/ILoad91964___Thumb.jpg
END:VEVENT
BEGIN:VEVENT
DTSTART;TZID=Australia/Brisbane:20181214T183000
DTEND;TZID=Australia/Brisbane:20181214T203000
DTSTAMP:20260421T232347
CREATED:20181210T031454Z
LAST-MODIFIED:20181210T031503Z
UID:7012-1544812200-1544819400@mysoutherndowns.com.au
SUMMARY:Family Fun: Carols in the Park
DESCRIPTION:Don’t miss the Stanthorpe Carols in the Park returning to Weeroona Park on Friday 14 December from 6:30pm – 8:30pm. \nThis much-loved\, free family event\, presented by Southern Downs Regional Council\, will host a variety of entertainers in a joyous and magical celebration of Christmas. \nOf course\, there would be no Carols in the Park without our guest of honour\, Santa Claus\, who will drop in for a visit as he finalises plans for his busiest time of year. \nFamilies will be able to enjoy a beautiful summer’s evening in the park\, with some great entertainment\, a sausage sizzle and a visit from Santa. \nBring your own picnic rug or chair and settle into the beautiful surrounds of Weeroona Park to share the spirit of Christmas in Stanthorpe. \nOther Carols events around the region include: \n\nWarwick – Sunday 9 December\, Leslie Park\nAllora – Friday 14 December\, Herbert St\nKillarney – Friday 21 December\, Canning Park
URL:https://mysoutherndowns.com.au/event/family-fun-carols-in-the-park/
LOCATION:Weeroona Park\, Marsh Street\, Stanthorpe\, Queensland\, 4377\, Australia
CATEGORIES:Public Events
ATTACH;FMTTYPE=image/jpeg:https://mysoutherndowns.com.au/wp-content/uploads/2018/12/SCarols_2.jpg
GEO:-28.6535;151.9335
X-APPLE-STRUCTURED-LOCATION;VALUE=URI;X-ADDRESS=Weeroona Park Marsh Street Stanthorpe Queensland 4377 Australia;X-APPLE-RADIUS=500;X-TITLE=Marsh Street:geo:151.9335,-28.6535
END:VEVENT
BEGIN:VEVENT
DTSTART;TZID=Australia/Brisbane:20181215T153000
DTEND;TZID=Australia/Brisbane:20181215T183000
DTSTAMP:20260421T232347
CREATED:20181019T030247Z
LAST-MODIFIED:20181019T030247Z
UID:6863-1544887800-1544898600@mysoutherndowns.com.au
SUMMARY:Christmas Festival - Stanthorpe
DESCRIPTION:Saturday\, 15 December 2018 from 15:30-18:30\nGranite Belt Christmas Farm\n321 Aerodrome Road\, Applethorpe \nEntry is $10 per adult and all children are free this is payable on the gate. \nEmbrace the magic of Christmas at our annual Christmas Festival! An action packed afternoon full of family fun. Entertainment bought to you by music sensation Hayley Chalmers and the famous Blue Violets Duo that will have your foot tapping the whole afternoon! \nSanta will be visiting all the kids so ensure your little ones bring a letter to put in Santa’s mailbox. There are loads of kid’s activities\, including a treasure hunt through the Christmas Trees\, face painting\, feeding Santa’s animals plus more running all afternoon so mum and dad sick back and enjoy your favorite glass of wine or beer (BYO) Don’t forget to pack the picnic rug or camping chairs. \nBBQ stall will be operating so your appetite will be covered and don’t forget to indulge in our Belgian Chocolates all made on site! The Mistletoe Store will be open throughout the festival so ensure to check out all the spectacular ornaments and decorations! \nThe talented Glenda Riley will be taking family photos – The theme will be rustic Aussie Christmas\, this is the perfect time to capture the family memories! For only $20. No bookings needed just line up and smile!
URL:https://mysoutherndowns.com.au/event/christmas-festival-stanthorpe/
ATTACH;FMTTYPE=image/jpeg:https://mysoutherndowns.com.au/wp-content/uploads/2018/10/41645198_924269357782252_5758850505921003520_n.jpg
END:VEVENT
BEGIN:VEVENT
DTSTART;TZID=Australia/Brisbane:20181216T080000
DTEND;TZID=Australia/Brisbane:20181216T120000
DTSTAMP:20260421T232347
CREATED:20180220T232252Z
LAST-MODIFIED:20181210T060333Z
UID:4702-1544947200-1544961600@mysoutherndowns.com.au
SUMMARY:Market in the Mountains Monster Christmas Markets 16th Dec
DESCRIPTION:Come and meet the stallholders at the Stanthorpe Showgrounds 8am – Noon who have made\, baked\, sewn or grown the product. Unique handmade gifts\, native plants\, honey\, jewellery\, clothes\, woodcraft and so much more. Meet some friends at the Cafe and enjoy the morning.
URL:https://mysoutherndowns.com.au/event/market-in-the-mountains-2018-12-16/
LOCATION:Stanthorpe Show Grounds & Maryland Street\, Maryland & High Street\, Stanthorpe\, Queensland\, 4380\, Australia
CATEGORIES:Not for Profit Events,Public Events
ATTACH;FMTTYPE=image/jpeg:https://mysoutherndowns.com.au/wp-content/uploads/2017/07/Market-in-the-Moutains_1_mini.jpg
ORGANIZER;CN="Stanthorpe Crafters &amp%3B Hobbyists Assoc Inc":MAILTO:info@marketinthemountains.org
GEO:-28.6552168;151.9344835
X-APPLE-STRUCTURED-LOCATION;VALUE=URI;X-ADDRESS=Stanthorpe Show Grounds & Maryland Street Maryland & High Street Stanthorpe Queensland 4380 Australia;X-APPLE-RADIUS=500;X-TITLE=Maryland & High Street:geo:151.9344835,-28.6552168
END:VEVENT
BEGIN:VEVENT
DTSTART;TZID=Australia/Brisbane:20181219T100000
DTEND;TZID=Australia/Brisbane:20181219T140000
DTSTAMP:20260421T232347
CREATED:20181024T033252Z
LAST-MODIFIED:20181024T033252Z
UID:6879-1545213600-1545228000@mysoutherndowns.com.au
SUMMARY:Alcohol & Drug Family Support Info Session
DESCRIPTION:AOD Information sessions for Nov – Dec are as follows\, please save the date and we look forward to being of service: \nWednesday\, November 28\, 2018 and\nMonday\, November 26\, 2018\n10am – 1pm\nDrugarm\nCnr Connor & Short St\, Stanthorpe \nMonday\, December 3\, 2018\n10am – 1pm\nWarwick Library\n49 Albion Street\, Warwick \nThe Breakthrough for Families Program helps families and significant others of individuals affected by alcohol and drug use – in particular families with children\, to obtain information\, develop support strategies and connect to treatment and other services. \nThe program provides families and the broader community affected by ice\, alcohol and other drugs access to free\, accessible information\, and tailored strategies to help themselves and others. \nFamilies can receive brief individual support over several private sessions tailored to their individual needs and circumstances and our support can be accessed on a voluntary basis\, and we are focused on helping people who may not have easy access to support.
URL:https://mysoutherndowns.com.au/event/alcohol-drug-family-support-info-session-2/
ATTACH;FMTTYPE=image/png:https://mysoutherndowns.com.au/wp-content/uploads/2018/10/Nov-Flyer-jpg-1.png
ORGANIZER;CN="Drugarm":MAILTO:intake@hoa.drugarm.com.au
END:VEVENT
BEGIN:VEVENT
DTSTART;TZID=Australia/Brisbane:20181221T080000
DTEND;TZID=Australia/Brisbane:20181221T170000
DTSTAMP:20260421T232347
CREATED:20181221T023852Z
LAST-MODIFIED:20181221T052115Z
UID:7089-1545379200-1545411600@mysoutherndowns.com.au
SUMMARY:Demerger Business Case Released
DESCRIPTION:The Granite Belt Community Association (GBCA) says it is pleased to announce the business case for “A New Granite Belt Council” will be available for viewing by the public on the association’s website from 9am today\, Friday 21 December. \n To view the report visit www.granitebeltcommunity.com
URL:https://mysoutherndowns.com.au/event/demerger-business-case-released/
ATTACH;FMTTYPE=image/png:https://mysoutherndowns.com.au/wp-content/uploads/2018/12/logo-sdrc-1.png
END:VEVENT
BEGIN:VEVENT
DTSTART;VALUE=DATE:20181231
DTEND;VALUE=DATE:20190101
DTSTAMP:20260421T232347
CREATED:20180705T231649Z
LAST-MODIFIED:20180705T231649Z
UID:5365-1546214400-1546300799@mysoutherndowns.com.au
SUMMARY:Stanthorpe Eats & Beats New Years Eve
DESCRIPTION:31 Dec at 17:30 to 1 January 2019 at 02:00\nStanthorpe Showgrounds \nGet your dancing shoes on Stanthorpe\, this is a night you don’t want to miss!! \nDoors open from 5.30pm \nIndulge in the variety of street food vendors and dance up a storm with the nights live entertainment kicking off from 6pm!! \nDon’t forget about the kiddies!! There will be a jumping castle\, face painting and more to keep them entertained till 9pm. \nTickets on sale from 01 October 2018
URL:https://mysoutherndowns.com.au/event/stanthorpe-eats-beats-new-years-eve/
ATTACH;FMTTYPE=image/jpeg:https://mysoutherndowns.com.au/wp-content/uploads/2018/07/36481673_1731579166877214_6089981570930704384_n.jpg
END:VEVENT
END:VCALENDAR