BEGIN:VCALENDAR
VERSION:2.0
PRODID:-//My Southern Downs - ECPv6.3.1//NONSGML v1.0//EN
CALSCALE:GREGORIAN
METHOD:PUBLISH
X-ORIGINAL-URL:https://mysoutherndowns.com.au
X-WR-CALDESC:Events for My Southern Downs
REFRESH-INTERVAL;VALUE=DURATION:PT1H
X-Robots-Tag:noindex
X-PUBLISHED-TTL:PT1H
BEGIN:VTIMEZONE
TZID:Australia/Brisbane
BEGIN:STANDARD
TZOFFSETFROM:+1000
TZOFFSETTO:+1000
TZNAME:AEST
DTSTART:20160101T000000
END:STANDARD
END:VTIMEZONE
BEGIN:VEVENT
DTSTART;TZID=Australia/Brisbane:20260417T080000
DTEND;TZID=Australia/Brisbane:20260417T140000
DTSTAMP:20260422T150713
CREATED:20190804T025742Z
LAST-MODIFIED:20190804T025742Z
UID:13620-1776412800-1776434400@mysoutherndowns.com.au
SUMMARY:Seasonal Feast Farmers Markets
DESCRIPTION:It’s happening every Friday 8am to 2pm in the Stanthorpe Piazza off Maryland and Farley Streets. Get your seasonal farm fresh produce\, tastes of the GraniteBelt and more!\n \nWhat: Enjoy a selection of locally produced goodies\, produce and more! \nWhen: Every Friday\, 8am to 2pm. \nWhere: Stanthorpe Piazza\, Maryland Street. (Next door to the National Australia Bank)
URL:https://mysoutherndowns.com.au/event/seasonal-feast-farmers-markets/2026-04-17/
LOCATION:Queensland
CATEGORIES:Local Business Events,Public Events
ATTACH;FMTTYPE=image/png:https://mysoutherndowns.com.au/wp-content/uploads/2019/08/923189_331018333668130_1420754706_n.png
END:VEVENT
BEGIN:VEVENT
DTSTART;TZID=Australia/Brisbane:20260329T080000
DTEND;TZID=Australia/Brisbane:20260329T080000
DTSTAMP:20260422T150713
CREATED:20190804T074648Z
LAST-MODIFIED:20190804T074648Z
UID:13613-1774771200-1774771200@mysoutherndowns.com.au
SUMMARY:Border Railway Market
DESCRIPTION:Wallangarra Border Railway Markets\nBorder Railway Markets\nThe best little Country Market between QLD & NSW \n8am to 12 Midday \nHeld on the Last Sunday of every month from 8.00am – 12.00pm at the historic Wallangarra Railway Station.\nThe markets offer a wide and varied selection of local art\, craft and produce\, as well as tasty hot breakfasts\, light refreshments and takeaways available in the station dining room. There is plenty of parking for caravans and coaches.\n\n\n\nEmail:\nbpcusack@iinet.net.au\n\n\nPhone:\n0746843300\n\n\nMobile:\n0408843300\n\n\nAddress:\nRockwell Street\nWallangarra Qld 4383
URL:https://mysoutherndowns.com.au/event/border-railway-market/2026-03-29/
LOCATION:Wallangarra Railway Station\, Rockwell St\,\, Wallangarra\, Queensland\, 4383\, Australia
CATEGORIES:Local Business Events,Not for Profit Events,Public Events
ATTACH;FMTTYPE=image/jpeg:https://mysoutherndowns.com.au/wp-content/uploads/2019/08/Wallangarra-Markets.jpg
END:VEVENT
BEGIN:VEVENT
DTSTART;TZID=Australia/Brisbane:20170624T100000
DTEND;TZID=Australia/Brisbane:20170624T160000
DTSTAMP:20260422T150713
CREATED:20170618T120005Z
LAST-MODIFIED:20170618T120005Z
UID:3143-1498298400-1498320000@mysoutherndowns.com.au
SUMMARY:Felted Hoods to Hats Workshop - Bridget Bunchy
DESCRIPTION:Felted Hoods to Hats Workshop with Mieke Den Otter. \nSaturday 24th June from 10am to 4pm at Bridget Bunchy store\, The Summit. \nFor more information call Isabella 0418 957 227
URL:https://mysoutherndowns.com.au/event/felted-hoods-to-hats-workshop-bridget-bunchy/
LOCATION:Bridget Bunchy\, 117 Granite Belt Drive\, The Summit\, Queensland\, 4377\, Australia
CATEGORIES:Local Business Events
ATTACH;FMTTYPE=image/png:https://mysoutherndowns.com.au/wp-content/uploads/2017/06/953762d9793f9bbdcbfa4c917ae3fe02_400x400.png
GEO:-28.572739;151.9487515
X-APPLE-STRUCTURED-LOCATION;VALUE=URI;X-ADDRESS=Bridget Bunchy 117 Granite Belt Drive The Summit Queensland 4377 Australia;X-APPLE-RADIUS=500;X-TITLE=117 Granite Belt Drive:geo:151.9487515,-28.572739
END:VEVENT
BEGIN:VEVENT
DTSTART;VALUE=DATE:20161111
DTEND;VALUE=DATE:20161114
DTSTAMP:20260422T150713
CREATED:20161014T235502Z
LAST-MODIFIED:20161014T235502Z
UID:2140-1478822400-1479081599@mysoutherndowns.com.au
SUMMARY:Stanthorpe Rocks 2016
DESCRIPTION:If you love classic Aussie rock music\, then Stanthorpe Rocks is the place to be. The performers are a veritable who’s who of 70’s and 80’s rock but it’s the other offerings that make this concert a class above all others. \nStanthorpe Rocks prides itself on being a boutique style festival aimed at the discerning festival goer who wants to have a great day out with fantastic music and food as well as a comfortable and enjoyable experience. Tickets are limited so there is loads of space which means there are never long queues and everyone gets a good view of the aciton.\nStanthorpe Rocks also provides a fantastic return to the Southern Downs region with an estimated $1million as a result of the concert. So not only is it a great event to attend\, it is great for the local community too. \nMake the most of it and bring your mates to the Ballandean Estate Wines on November 11th\, 12th and 13th for Stanthorpe Rocks! \nwww.stanthorperocks.com.au
URL:https://mysoutherndowns.com.au/event/stanthorpe-rocks-2016/
LOCATION:Ballandean Estate Wines\, 354 Sundown Road\, Ballandean\, QLD\, 4382\, Australia
CATEGORIES:Fund Raising Events,Local Business Events,Not for Profit Events,Public Events,Queensland State Events
ATTACH;FMTTYPE=image/png:https://mysoutherndowns.com.au/wp-content/uploads/2016/10/stanthorperocks-350x200.png
GEO:-28.8130981;151.8103098
X-APPLE-STRUCTURED-LOCATION;VALUE=URI;X-ADDRESS=Ballandean Estate Wines 354 Sundown Road Ballandean QLD 4382 Australia;X-APPLE-RADIUS=500;X-TITLE=354 Sundown Road:geo:151.8103098,-28.8130981
END:VEVENT
END:VCALENDAR