BEGIN:VCALENDAR
VERSION:2.0
PRODID:-//My Southern Downs - ECPv6.3.1//NONSGML v1.0//EN
CALSCALE:GREGORIAN
METHOD:PUBLISH
X-WR-CALNAME:My Southern Downs
X-ORIGINAL-URL:https://mysoutherndowns.com.au
X-WR-CALDESC:Events for My Southern Downs
REFRESH-INTERVAL;VALUE=DURATION:PT1H
X-Robots-Tag:noindex
X-PUBLISHED-TTL:PT1H
BEGIN:VTIMEZONE
TZID:Australia/Brisbane
BEGIN:STANDARD
TZOFFSETFROM:+1000
TZOFFSETTO:+1000
TZNAME:AEST
DTSTART:20180101T000000
END:STANDARD
END:VTIMEZONE
BEGIN:VEVENT
DTSTART;TZID=Australia/Brisbane:20180922T180000
DTEND;TZID=Australia/Brisbane:20180922T223000
DTSTAMP:20260422T235307
CREATED:20180907T023409Z
LAST-MODIFIED:20180920T025936Z
UID:5875-1537639200-1537655400@mysoutherndowns.com.au
SUMMARY:Masquerade Charity Ball - Warwick
DESCRIPTION:Saturday 22nd September 2018  6:00pm – 10:30pm\nYMCA Camp Leslie Dam Hall\nEvent Organiser  WIRAC \nWIRAC and Camp Leslie Dam YMCA’s have worked together to bring a Charity Ball to Warwick as part of Disability Awareness Week this coming September. \nThis will be a fun\, fund-raising event with funds raised going to two special YMCA programs.\nTicket income will go towards our Aquatic Disabilities program and beverage profits\, silent auction and raffle will go towards the Cancer Survivor Program. \nAll for a good cause and more importantly a great reason to come and celebrate with your friends and family at a great party event.\nThis includes your entry\, a three course meal\, music and your first beverage (champagne/wine/beer/soft drink). The first 56 bookings can also take advantage of the complimentary bus trip to and from Camp Leslie Dam. Be sure to select the General Admission + Bus if you require this option\, find more details at the ticket kiosk. \nTicket includes entry\, 3 course meal\, entertainment\, a complimentary beverage on arrival and your donation.  $69.00 \nFor more information please contact Event Organiser  WIRAC  46617955   wirac@ymcabrisbane.org
URL:https://mysoutherndowns.com.au/event/masquerade-charity-ball-warwick/
ATTACH;FMTTYPE=image/jpeg:https://mysoutherndowns.com.au/wp-content/uploads/2018/09/41229750_1955507171176672_4689118265820053504_n.jpg
END:VEVENT
END:VCALENDAR