BEGIN:VCALENDAR
VERSION:2.0
PRODID:-//My Southern Downs - ECPv6.3.1//NONSGML v1.0//EN
CALSCALE:GREGORIAN
METHOD:PUBLISH
X-ORIGINAL-URL:https://mysoutherndowns.com.au
X-WR-CALDESC:Events for My Southern Downs
REFRESH-INTERVAL;VALUE=DURATION:PT1H
X-Robots-Tag:noindex
X-PUBLISHED-TTL:PT1H
BEGIN:VTIMEZONE
TZID:Australia/Brisbane
BEGIN:STANDARD
TZOFFSETFROM:+1000
TZOFFSETTO:+1000
TZNAME:AEST
DTSTART:20180101T000000
END:STANDARD
END:VTIMEZONE
BEGIN:VEVENT
DTSTART;TZID=Australia/Brisbane:20180701T080000
DTEND;TZID=Australia/Brisbane:20180701T140000
DTSTAMP:20260426T103533
CREATED:20180511T020109Z
LAST-MODIFIED:20180511T020109Z
UID:5149-1530432000-1530453600@mysoutherndowns.com.au
SUMMARY:Trash and Treasure Garage Sale - Warwick
DESCRIPTION:1 July at 8:00–14:00 \nCheck the facebook page to confirm location \nTrash n Treasure Garage Sale   Bargins garlore with funds going to Warwick Animal Welfare Assoc \nHi guys\, We are holding a trash and treasure garage sale on Sunday 1st of July\, 2018. At this point in time \, the location is set at 115 Wood street\, Warwick\, but if it becomes larger than we first planned\, it will be held at the Railway Institute Hall . The location will be announced closer to the date. If anyone would like to make any donations towards the sale to help us raise money for the association and all the animals\, please call 0447 801909 to arrange a time
URL:https://mysoutherndowns.com.au/event/trash-and-treasure-garage-sale-warwick/
ATTACH;FMTTYPE=image/jpeg:https://mysoutherndowns.com.au/wp-content/uploads/2018/05/31531044_1898399273523623_753678443035492352_n.jpg
END:VEVENT
END:VCALENDAR