BEGIN:VCALENDAR
VERSION:2.0
PRODID:-//My Southern Downs - ECPv6.3.1//NONSGML v1.0//EN
CALSCALE:GREGORIAN
METHOD:PUBLISH
X-ORIGINAL-URL:https://mysoutherndowns.com.au
X-WR-CALDESC:Events for My Southern Downs
REFRESH-INTERVAL;VALUE=DURATION:PT1H
X-Robots-Tag:noindex
X-PUBLISHED-TTL:PT1H
BEGIN:VTIMEZONE
TZID:Australia/Brisbane
BEGIN:STANDARD
TZOFFSETFROM:+1000
TZOFFSETTO:+1000
TZNAME:AEST
DTSTART:20180101T000000
END:STANDARD
END:VTIMEZONE
BEGIN:VEVENT
DTSTART;VALUE=DATE:20180602
DTEND;VALUE=DATE:20180603
DTSTAMP:20260423T140641
CREATED:20180525T012400Z
LAST-MODIFIED:20180525T012400Z
UID:5203-1527897600-1527983999@mysoutherndowns.com.au
SUMMARY:Cent Sale and International Afternoon - Warwick
DESCRIPTION:Saturday 2nd June at the ACWA rooms\, Grafton Street Warwick from 1.30 pm \nCent sale\,  multi -draw raffle\, lucky door prize\, afternoon tea. \nDisplay of German projects and colourings by the Warwick East State School students and winners announced. \nEveryone is welcome\, $5.oo admission with a limit of 80 in the hall \nFor more information please call 4667 3889
URL:https://mysoutherndowns.com.au/event/cent-sale-and-international-afternoon-warwick/
ATTACH;FMTTYPE=image/jpeg:https://mysoutherndowns.com.au/wp-content/uploads/2018/05/1517869989179.jpeg
END:VEVENT
END:VCALENDAR