BEGIN:VCALENDAR
VERSION:2.0
PRODID:-//My Southern Downs - ECPv6.3.1//NONSGML v1.0//EN
CALSCALE:GREGORIAN
METHOD:PUBLISH
X-ORIGINAL-URL:https://mysoutherndowns.com.au
X-WR-CALDESC:Events for My Southern Downs
REFRESH-INTERVAL;VALUE=DURATION:PT1H
X-Robots-Tag:noindex
X-PUBLISHED-TTL:PT1H
BEGIN:VTIMEZONE
TZID:Australia/Brisbane
BEGIN:STANDARD
TZOFFSETFROM:+1000
TZOFFSETTO:+1000
TZNAME:AEST
DTSTART:20180101T000000
END:STANDARD
END:VTIMEZONE
BEGIN:VEVENT
DTSTART;VALUE=DATE:20180216
DTEND;VALUE=DATE:20180219
DTSTAMP:20260425T073815
CREATED:20180215T231605Z
LAST-MODIFIED:20180215T231605Z
UID:4625-1518739200-1518998399@mysoutherndowns.com.au
SUMMARY:Clifton 107th Show
DESCRIPTION:Come and enjoy the fun of the fair \nCheck web site for entry fees
URL:https://mysoutherndowns.com.au/event/clifton-107th-show/
ATTACH;FMTTYPE=image/png:https://mysoutherndowns.com.au/wp-content/uploads/2018/02/23031488_1557246514313820_2001143897769257167_n.png
END:VEVENT
END:VCALENDAR