BEGIN:VCALENDAR
VERSION:2.0
PRODID:-//My Southern Downs - ECPv6.3.1//NONSGML v1.0//EN
CALSCALE:GREGORIAN
METHOD:PUBLISH
X-ORIGINAL-URL:https://mysoutherndowns.com.au
X-WR-CALDESC:Events for My Southern Downs
REFRESH-INTERVAL;VALUE=DURATION:PT1H
X-Robots-Tag:noindex
X-PUBLISHED-TTL:PT1H
BEGIN:VTIMEZONE
TZID:Australia/Brisbane
BEGIN:STANDARD
TZOFFSETFROM:+1000
TZOFFSETTO:+1000
TZNAME:AEST
DTSTART:20170101T000000
END:STANDARD
END:VTIMEZONE
BEGIN:VEVENT
DTSTART;VALUE=DATE:20171006
DTEND;VALUE=DATE:20171007
DTSTAMP:20260423T225600
CREATED:20170915T031658Z
LAST-MODIFIED:20170915T031658Z
UID:3547-1507248000-1507334399@mysoutherndowns.com.au
SUMMARY:Leukaemia Foundation Light the Night
DESCRIPTION:What: Fundraiser for cancer patients\nWhen: October 6\, 5.30pm start\nWhere: Lions Park\, Quart Pot Creek\n\n \n  \n  \nFOR the third year\, Stanthorpe will join in a special event to raise funds for cancer patients. \nLight the Night is a unique fundraising event that brings together community members in more than 140 locations to remember and reflect during a moving ceremony and short lantern walk. \nThe Stanthorpe event will take place on Friday\, October 6. \n\nThe fundraiser\, which kicks off at 5.30pm\, will be held at the Lions Park\, Quart Pot Creek. \nTalented young local band Chasing the Fence consisting of Edmond Creevy\, Zane Hume and Naomi Moore will provide entertainment before the official ceremony at 6.30pm. \nCoordinator Angie Sims said the Stanthorpe Lions Club had jumped on board to again provide the sausage sizzle and the Leukaemia Foundation branch ladies would have a delicious bake sale on offer. \nThis year’s official ceremony will start with a special song performed by Joanne Barker.
URL:https://mysoutherndowns.com.au/event/leukaemia-foundation-light-the-night/
END:VEVENT
BEGIN:VEVENT
DTSTART;TZID=Australia/Brisbane:20171006T090000
DTEND;TZID=Australia/Brisbane:20171007T160000
DTSTAMP:20260423T225600
CREATED:20170915T015222Z
LAST-MODIFIED:20170915T015222Z
UID:3535-1507280400-1507392000@mysoutherndowns.com.au
SUMMARY:Stanthorpe Gardenfest and Trade Fair
DESCRIPTION:  \nPresented by the Stanthorpe Garden Club at Stanthorpe Christian Fellowship\, 207 Amosfield Road Stanthorpe. \nAdmission is free with light refreshment available. \nThere will be many favourite and long standing stall holders together with new sites to create the Number One Gardening Event on the Southern Downs
URL:https://mysoutherndowns.com.au/event/stanthorpe-gardenfest-and-trade-fair-2/
END:VEVENT
END:VCALENDAR