BEGIN:VCALENDAR
VERSION:2.0
PRODID:-//My Southern Downs - ECPv6.3.1//NONSGML v1.0//EN
CALSCALE:GREGORIAN
METHOD:PUBLISH
X-WR-CALNAME:My Southern Downs
X-ORIGINAL-URL:https://mysoutherndowns.com.au
X-WR-CALDESC:Events for My Southern Downs
REFRESH-INTERVAL;VALUE=DURATION:PT1H
X-Robots-Tag:noindex
X-PUBLISHED-TTL:PT1H
BEGIN:VTIMEZONE
TZID:Australia/Brisbane
BEGIN:STANDARD
TZOFFSETFROM:+1000
TZOFFSETTO:+1000
TZNAME:AEST
DTSTART:20170101T000000
END:STANDARD
END:VTIMEZONE
BEGIN:VEVENT
DTSTART;VALUE=DATE:20170922
DTEND;VALUE=DATE:20170926
DTSTAMP:20260423T102445
CREATED:20170922T005143Z
LAST-MODIFIED:20170922T005418Z
UID:3560-1506038400-1506383999@mysoutherndowns.com.au
SUMMARY:41st National Chevrolet Festival
DESCRIPTION:  \n\n\n\n\n\n\n\nAnnual event to celebrate the iconic GM marque of Chevrolet throughout it’s model range. Open to all vehicles with a Chevrolet compliance plate\n\nContact Elton  on 0417 791 595 or Ian  on 0418 7852 768
URL:https://mysoutherndowns.com.au/event/3560/
END:VEVENT
END:VCALENDAR